BEGIN:VCALENDAR
VERSION:2.0
PRODID:-//Quantum Research and Centre of Excellence - ECPv6.13.2.1//NONSGML v1.0//EN
CALSCALE:GREGORIAN
METHOD:PUBLISH
X-WR-CALNAME:Quantum Research and Centre of Excellence
X-ORIGINAL-URL:https://www.qrace.org
X-WR-CALDESC:Events for Quantum Research and Centre of Excellence
REFRESH-INTERVAL;VALUE=DURATION:PT1H
X-Robots-Tag:noindex
X-PUBLISHED-TTL:PT1H
BEGIN:VTIMEZONE
TZID:UTC
BEGIN:STANDARD
TZOFFSETFROM:+0000
TZOFFSETTO:+0000
TZNAME:UTC
DTSTART:20200101T000000
END:STANDARD
END:VTIMEZONE
BEGIN:VEVENT
DTSTART;TZID=UTC:20200320T080000
DTEND;TZID=UTC:20200321T170000
DTSTAMP:20260423T162643
CREATED:20200211T095104Z
LAST-MODIFIED:20200211T110756Z
UID:354-1584691200-1584810000@www.qrace.org
SUMMARY:INVITATION LETTER FOR SESSION CHAIR IN ICSEC 2020
DESCRIPTION:Poornima Institute of Engineering & Technology\, Jaipur\, Rajasthan – India will be organizing International Conference on Smart City Convergence 2020 on 20-21th March 2020.
URL:https://www.qrace.org/event/poornima-institute-of-engineering-technology-jaipur-rajasthan/
LOCATION:Poornima Institute of Engineering and Technology\, Poornima Marg\, Sitapura\,\, Jaipur\, Rajasthan\, 302022\, India
CATEGORIES:events
ATTACH;FMTTYPE=image/jpeg:https://www.qrace.org/wp-content/uploads/2020/02/0001-1.jpg
END:VEVENT
BEGIN:VEVENT
DTSTART;TZID=UTC:20200314T080000
DTEND;TZID=UTC:20200316T170000
DTSTAMP:20260423T162643
CREATED:20200211T094401Z
LAST-MODIFIED:20200211T095407Z
UID:349-1584172800-1584378000@www.qrace.org
SUMMARY:Young Quantum - 2020
DESCRIPTION:Young Quantum – 2020 (YouQu-2020) is a meeting for PhD scholars and post-doctoral fellows to be organized by Quantum Information and Computation group at Harish-Chandra Research Institute (HRI)\, Allahabad. \nWhich aims to provide a platform for young researchers working in the broad areas of quantum information theory and related fields to encourage discussions and stimulate new collaborations and interactions. (http://www.hri.res.in/~confqic/youqu20/)
URL:https://www.qrace.org/event/young-quantum-2020/
LOCATION:Allahabad\, Uttar Pradesh\, India
CATEGORIES:events
ATTACH;FMTTYPE=image/png:https://www.qrace.org/wp-content/uploads/2020/02/yq2020.png
END:VEVENT
BEGIN:VEVENT
DTSTART;TZID=UTC:20200221T080000
DTEND;TZID=UTC:20200224T170000
DTSTAMP:20260423T162643
CREATED:20200211T105250Z
LAST-MODIFIED:20200211T110938Z
UID:358-1582272000-1582563600@www.qrace.org
SUMMARY:Universal Innovators and GLiDE Accelerator
DESCRIPTION:ICICC in association with many reputed funding agencies is organizing a Startup event\, where startup ideas meet Investors. The selection procedure for the startup idea will be professional\, stringent and scientific in nature. The prime objective of the startup meet is for successful ventures of future.
URL:https://www.qrace.org/event/universal-innovators-and-glide-accelerator/
LOCATION:Shaheed Sukhdev College of Business Studies\, Delhi University\, New Delhi\, New Delhi\, 110089\, India
CATEGORIES:events
END:VEVENT
BEGIN:VEVENT
DTSTART;TZID=UTC:20200213T080000
DTEND;TZID=UTC:20200213T170000
DTSTAMP:20260423T162643
CREATED:20200211T085554Z
LAST-MODIFIED:20200211T110256Z
UID:344-1581580800-1581613200@www.qrace.org
SUMMARY:Vision & Mission to Connect Globally Interactive Business Conference MIICCIA Business Conference
DESCRIPTION:“India and Central & Eastern Europe – Next Frontiers of Business & Economic Engagements”
URL:https://www.qrace.org/event/vision-mission-to-connect-globally-interactive-business-conference-miiccia-business-conference/
LOCATION:Civil Services Officers’ Institute (CSOI)\, Vinay Marg\, Chanakyapuri\, New Delhi\, Delhi\, 110021\, India
CATEGORIES:events
ATTACH;FMTTYPE=image/jpeg:https://www.qrace.org/wp-content/uploads/2020/02/0001.jpg
ORGANIZER;CN="QUANTUM RESEARCH AND CENTRE OF EXCELLENCE (QRACE)":MAILTO:qrace.lab@gmail.com
END:VEVENT
END:VCALENDAR